BEGIN:VCALENDAR
VERSION:2.0
PRODID:-//jEvents 1.5 for Joomla//EN
BEGIN:VEVENT
UID:929919dd42ea405811f2db0119f0a411
CATEGORIES:Condiviso
SUMMARY:Incontro online Laboratorio Pastorale della Salute
LOCATION:
DESCRIPTION;ENCODING=QUOTED-PRINTABLE:\n\n\n

DTSTAMP:20260421T115232
DTSTART:20220426T110000
DTEND:20220426T150000
SEQUENCE:0
TRANSP:OPAQUE
END:VEVENT
END:VCALENDAR