BEGIN:VCALENDAR
VERSION:2.0
PRODID:-//jEvents 1.5 for Joomla//EN
BEGIN:VEVENT
UID:e11e744e3e3ca40e586c637a2e4528a3
CATEGORIES:Condiviso
SUMMARY:Iincontro online Laboratorio Pastorale della Carità
LOCATION:
DESCRIPTION;ENCODING=QUOTED-PRINTABLE:\n\n\n

DTSTAMP:20260421T115249
DTSTART:20220427T110000
DTEND:20220427T150000
SEQUENCE:0
TRANSP:OPAQUE
END:VEVENT
END:VCALENDAR