BEGIN:VCALENDAR
VERSION:2.0
PRODID:-//jEvents 1.5 for Joomla//EN
BEGIN:VEVENT
UID:47a509aab84b8bb5baafbabe15208099
CATEGORIES:Condiviso
SUMMARY:Incontro Studenti e Postnovizi d'Europa
LOCATION:Roma - Collegio Internazionale S. Lorenzo da Brindisi
DESCRIPTION;ENCODING=QUOTED-PRINTABLE:\n\n\n

DTSTAMP:20260421T094043
DTSTART:20220724T000000
DTEND:20220727T235959
SEQUENCE:0
TRANSP:OPAQUE
END:VEVENT
END:VCALENDAR