BEGIN:VCALENDAR
VERSION:2.0
PRODID:-//jEvents 1.5 for Joomla//EN
BEGIN:VEVENT
UID:3de00de8edbb253df5bb4e4892e6b4f3
CATEGORIES:Condiviso
SUMMARY:L’ANIMA E IL TEMPO - Festival di spiritualità
LOCATION:Roma
DESCRIPTION;ENCODING=QUOTED-PRINTABLE:\nScarica qui il programma completo\n\n\nL'Anima e il TempoFestivaldi spiri
 tualitàNel contestocomplesso in cui ci troviamo a vivere, tra epidemie, gu
 erre, crisiambientale e instabilità politica, frammentazione sociale, il v
 enir meno di valori condivisie la perdita di senso della nostra es istenza 
 è necessario chiedersi che significato abbiaoggi la nostra vita e se è po
 ssibile un cambiamento che restituisca all’uomo unadimensione anche natur
 ale che sembra perduta. Per rispondere alle sfide presenti efuture, occorre
  che uomini e donne di b uona volontà che hanno a cuore la bellezza, lesor
 ti dell’umanità e della creazione, che sono capaci di amore e hanno il c
 oraggio didifendere un bene che non ci appartiene, si mettano in gioco con 
 le loro idee e con illoro esempio dando inizio a un tempo nuov oCon questa 
 motivazione abbiamo deciso di inaugurare “L'A nima e il T empo F estival 
 dispiritualità ”, al fine di ritagliarci uno spazio di dialogo e confron
 to su alcuni temi per noidi grande importanza, quali la custodia del creato
 , la scelta di u na politica e diun'economia attente al bene comune, una me
 ditata formazione per le nuove generazioni,la sinodalità della Chiesa, la 
 consapevolezza dei modi dell'azione di Dio nella storia , laricerca di un b
 ene che superi il relativismo della convenienza e la cultura dell’effimer
 o eabbia a cuore l’uomo e la sua casa comuneOgnuno di questi temi ci semb
 ra coinvolga le ragioni di fondo della nostravita e dellanostra fede con l'
 impegno concreto per la costruzione di un mondo più giusto, piùsolidale ,
  pi ù rispettoso dell’altro e dell’ambiente in cui viviamo affrontando
  i problemidel nostro tempo non solo con gli strumenti che ci offrono la po
 li tica, l’economia e lealtre scienze umane, ma anche e soprattutto con l
 a speranza e la carità.La scelta dellacittà di Roma , culla della civilt
  occidentale e della Cristianità , dellacreatività e dell’arte, della 
 cultura che ha saputo assimilare, valorizzare e rigenerareculture diverse n
 on è per noi secondaria, in quanto da Roma in tutte le epoche la vocedella
  Chiesa con i suoi vescovi, prim o fra tutt i papa Francesco, si è alzata 
 per richiamareal mondo le più autentiche istanze dell'umanità. È appunto
  a questa voce vogliamoprimariamente offrire luoghi di meditazione e di app
 rofondimento.Infine ci preme sottolineare come la collaborazione tra Cantag
 alli, Edizioni FrateIndovino e Città Nuova, sia il frutto di una amicizia 
 nata alcuni anni fa e consolidatadalla condivisione di una passione che fra
 ternamente ci accomuna e ci lega, oltre ognilogica economica o utilitaristi
 ca, che ha a cuore la verità, la giustizia e in ultima istanza ilbene dell
 ’uomo. Per questo motivo ci auguriamo che in futuro altri editori e altre
  realtà,mosse dallo stesso intento, vogliano condividere con noi questa av
 ventura.\n
CONTACT:https://www.festivaldispiritualita.it/

DTSTAMP:20260421T150940
DTSTART:20221013T000000
DTEND:20221016T235959
SEQUENCE:0
TRANSP:OPAQUE
END:VEVENT
END:VCALENDAR