BEGIN:VCALENDAR
VERSION:2.0
PRODID:-//jEvents 1.5 for Joomla//EN
BEGIN:VEVENT
UID:278550a8f04d17f685bd2d890eb9a423
CATEGORIES:Condiviso
SUMMARY:Laboratorio Mediterraneo - Segretariato Fraternità-Missione OFMCap 
LOCATION:
DESCRIPTION;ENCODING=QUOTED-PRINTABLE:\n\n\n
CONTACT:https://fraternitamissione.wordpress.com/

DTSTAMP:20260421T183004
DTSTART:20230110T000000
DTEND:20230110T235959
SEQUENCE:0
TRANSP:OPAQUE
END:VEVENT
END:VCALENDAR