BEGIN:VCALENDAR
VERSION:2.0
PRODID:-//jEvents 1.5 for Joomla//EN
BEGIN:VEVENT
UID:948eb71da3fa9fad5b914b235450efa7
CATEGORIES:Condiviso
SUMMARY:Laboratorio annuncio della Parola - Segretariato Fraternità-Missione OFMCap 
LOCATION:
DESCRIPTION;ENCODING=QUOTED-PRINTABLE:\n\n\n
CONTACT:https://fraternitamissione.wordpress.com/

DTSTAMP:20260421T150942
DTSTART:20230324T000000
DTEND:20230324T235959
SEQUENCE:0
TRANSP:OPAQUE
END:VEVENT
END:VCALENDAR