BEGIN:VCALENDAR
VERSION:2.0
PRODID:-//jEvents 1.5 for Joomla//EN
BEGIN:VEVENT
UID:a442f889e9747a4a15185cda5a169592
CATEGORIES:Condiviso
SUMMARY:Assemblea UFF e CIMPCap
LOCATION:Assisi
DESCRIPTION;ENCODING=QUOTED-PRINTABLE:\n\n\n

DTSTAMP:20260421T151057
DTSTART:20230306T000000
DTEND:20230310T235959
SEQUENCE:0
TRANSP:OPAQUE
END:VEVENT
END:VCALENDAR