BEGIN:VCALENDAR
VERSION:2.0
PRODID:-//jEvents 1.5 for Joomla//EN
BEGIN:VEVENT
UID:625ef430904e3c917e737ee26945f78a
CATEGORIES:Condiviso
SUMMARY:Tenda della pace
LOCATION:
DESCRIPTION;ENCODING=QUOTED-PRINTABLE:\n

DTSTAMP:20260423T132832
DTSTART:20230421T000000
DTEND:20230425T235959
SEQUENCE:0
TRANSP:OPAQUE
END:VEVENT
END:VCALENDAR