BEGIN:VCALENDAR
VERSION:2.0
PRODID:-//jEvents 1.5 for Joomla//EN
BEGIN:VEVENT
UID:a803fb0af4c699c660f83e6a5acddb6c
CATEGORIES:Condiviso
SUMMARY:Lo spirito dei Cappuccini
LOCATION:Perugia - Sala delle Colonne di Palazzo Graziani
DESCRIPTION;ENCODING=QUOTED-PRINTABLE:\n

DTSTAMP:20260421T170212
DTSTART:20231027T160000
DTEND:20231027T150000
SEQUENCE:0
TRANSP:OPAQUE
END:VEVENT
END:VCALENDAR