BEGIN:VCALENDAR
VERSION:2.0
PRODID:-//jEvents 1.5 for Joomla//EN
BEGIN:VEVENT
UID:3fcecc729c6fae487e2ec5b415edeb44
CATEGORIES:Condiviso
SUMMARY:La scelta della pace ad 800 anni da San Francesco
LOCATION:Perugia -  Biblioteca comunale San Matteo degli Armeni
DESCRIPTION;ENCODING=QUOTED-PRINTABLE:\n

DTSTAMP:20260421T170914
DTSTART:20231028T170000
DTEND:20231028T150000
SEQUENCE:0
TRANSP:OPAQUE
END:VEVENT
END:VCALENDAR