BEGIN:VCALENDAR
VERSION:2.0
PRODID:-//jEvents 1.5 for Joomla//EN
BEGIN:VEVENT
UID:8e62dfa81003415651f16cfbfca4e0d3
CATEGORIES:Condiviso
SUMMARY:Quando l'amore è per sempre
LOCATION:Perugia - Piazza Matteotti
DESCRIPTION;ENCODING=QUOTED-PRINTABLE:\n

DTSTAMP:20260421T170825
DTSTART:20231029T170000
DTEND:20231029T150000
SEQUENCE:0
TRANSP:OPAQUE
END:VEVENT
END:VCALENDAR