BEGIN:VCALENDAR
VERSION:2.0
PRODID:-//jEvents 1.5 for Joomla//EN
BEGIN:VEVENT
UID:6eb381af697d94f6d03074e4a60837eb
CATEGORIES:Condiviso
SUMMARY:XXV CONVEGNO NAZIONALE CONVEGNO ASSISTENTI OFS
LOCATION:
DESCRIPTION;ENCODING=QUOTED-PRINTABLE:Scarica qui il programma\n\n

DTSTAMP:20260421T215227
DTSTART:20250113T000000
DTEND:20250116T235959
SEQUENCE:0
TRANSP:OPAQUE
END:VEVENT
END:VCALENDAR