BEGIN:VCALENDAR
VERSION:2.0
PRODID:-//jEvents 1.5 for Joomla//EN
BEGIN:VEVENT
UID:640fc31488d3ff84079b0d139d84e811
CATEGORIES:Condiviso
SUMMARY:XXVI Convegno Nazionale degli assistenti spirituali dell'OFS e della Gifra
LOCATION:Assisi
DESCRIPTION;ENCODING=QUOTED-PRINTABLE:\nScarica qui il programma in PDF\n

DTSTAMP:20260421T233858
DTSTART:20260112T000000
DTEND:20260115T235959
SEQUENCE:0
TRANSP:OPAQUE
END:VEVENT
END:VCALENDAR