BEGIN:VCALENDAR
VERSION:2.0
PRODID:-//jEvents 1.5 for Joomla//EN
BEGIN:VEVENT
UID:b3d473b5b57a91faed8c3d3d2a7d5bb8
CATEGORIES:Condiviso
SUMMARY:Immacolata Concezione della Beata Vergine Maria, Patrona dell'Ordine Serafico
LOCATION:
DESCRIPTION;ENCODING=QUOTED-PRINTABLE:

DTSTAMP:20260421T233818
DTSTART:20181208T000000
DTEND:20181208T235959
SEQUENCE:0
TRANSP:OPAQUE
END:VEVENT
END:VCALENDAR