BEGIN:VCALENDAR
VERSION:2.0
PRODID:-//jEvents 1.5 for Joomla//EN
BEGIN:VEVENT
UID:23d249f1f59f2855d74ac1b1111f3aa1
CATEGORIES:Condiviso
SUMMARY:Assemblea Segretariati nazionali e 131ª Assemblea CIMP Cap.
LOCATION:Frascati
DESCRIPTION;ENCODING=QUOTED-PRINTABLE:
CONTACT:fr. M. Lecce cell. 335 6868233; fr. F. Colacelli cell. 335 6868232 
 
 
 
 
 Questo indirizzo e-mail è protetto dallo spam bot. Abilita Javascript per vederlo.
 
 
 

DTSTAMP:20260422T144231
DTSTART:20140602T000000
DTEND:20140605T235959
SEQUENCE:0
TRANSP:OPAQUE
END:VEVENT
END:VCALENDAR