BEGIN:VCALENDAR
VERSION:2.0
PRODID:-//jEvents 1.5 for Joomla//EN
BEGIN:VEVENT
UID:a37db2d59cbfd4dc82debd6cbc5cc254
CATEGORIES:Condiviso
SUMMARY:132ª Assemblea CIMP Cap
LOCATION:Roma-Collegio Intern. S. Lorenzo da Brindisi
DESCRIPTION;ENCODING=QUOTED-PRINTABLE:
CONTACT:fr. M. Lecce cell. 335 6868233; fr. F. Colacelli cell. 335 6868232 
 
 
 
 
 Questo indirizzo e-mail è protetto dallo spam bot. Abilita Javascript per vederlo.
 
 
 

DTSTAMP:20260424T205510
DTSTART:20141019T000000
DTEND:20141023T235959
SEQUENCE:0
TRANSP:OPAQUE
END:VEVENT
END:VCALENDAR