BEGIN:VCALENDAR
VERSION:2.0
PRODID:-//jEvents 1.5 for Joomla//EN
BEGIN:VEVENT
UID:b9ba88768efb7dcbcec5cc3d41962447
CATEGORIES:Condiviso
SUMMARY:Capitolo Provinciale Emilia Romagna
LOCATION:
DESCRIPTION;ENCODING=QUOTED-PRINTABLE:

DTSTAMP:20260424T143822
DTSTART:20140428T000000
DTEND:20140503T235959
SEQUENCE:0
TRANSP:OPAQUE
END:VEVENT
END:VCALENDAR