BEGIN:VCALENDAR
VERSION:2.0
PRODID:-//jEvents 1.5 for Joomla//EN
BEGIN:VEVENT
UID:628508068144ae4dde47b0ad2f0cec9a
CATEGORIES:Condiviso
SUMMARY: Consiglio di Presidenza CIMP Cap
LOCATION:Roma-Via Veneto
DESCRIPTION;ENCODING=QUOTED-PRINTABLE:
CONTACT:fr. Ciro M. Polverino cell. 347 9433519; fr. F. Colacelli cell. 335 6868232 
 
 
 
 
 Questo indirizzo e-mail è protetto dallo spam bot. Abilita Javascript per vederlo.
 
 
 

DTSTAMP:20260422T025931
DTSTART:20140707T000000
DTEND:20140707T235959
SEQUENCE:0
TRANSP:OPAQUE
END:VEVENT
END:VCALENDAR