BEGIN:VCALENDAR
VERSION:2.0
PRODID:-//jEvents 1.5 for Joomla//EN
BEGIN:VEVENT
UID:81727ae05d10837c008239e81033ed1f
CATEGORIES:Condiviso
SUMMARY:Verso LoppianoLab 2014, tra relazioni, lavoro, cultura
LOCATION:
DESCRIPTION;ENCODING=QUOTED-PRINTABLE:LOPPIANOLAB 2014\nUNA MAPPA PER L'ITALIA\ntra relazioni, lavoro, cultura\n3
 -5 ottobre 2014\n\n\n \n\n\nIn vista del convegno-laboratorio per l’Ital
 ia che si terrà nell’autunno prossimo, un’anticipazione delle tematich
 e e degli eventi che caratterizzeranno la quinta edizione.\n\n\nIl lavoro c
 he non c’è, la ripresa che tarda a venire e la disoccupazione giovanile 
 in crescita. Sono solo alcuni dei segnali più evidenti con i quali il mond
 o del lavoro si appresta alla ricorrenza del 1° maggio. Sono dati che con
 fermano l’urgenza di tracciare una mappa aggiornata per l’Italia, per i
 deare e sostenere le vie d’uscita percorribili dal Paese, così come dall
 ’Europa.\n\n\nA questa urgenza tenterà di offrire qualche risposta Loppi
 anoLab 2014, il laboratorio nazionale di economia, cultura, comunicazione,
  formazione che si terrà dal 3 al 5 ottobre prossimi a Loppiano (Fi), pro
 mosso dal Polo Lionello Bonfanti, dal Gruppo editoriale Città Nuova, dall
 Istituto universitario Sophia e dal Centro internazionale dei Focolari a 
 Loppiano (Fi).\n\n\nGiunto alla sua quinta edizione, LoppianoLab avrà in e
 ffetti come titolo “Una mappa per l’Italia. Tra relazioni, lavoro, cul
 tura”. Protagonista, ancora una volta saranno le reti di cittadini, organ
 izzazioni, lavoratori, studenti, docenti, professionisti, che da anni lavor
 ano in sinergia alla ricerca di un percorso partecipato verso la ripresa og
 gi e per il futuro del Paese.\n\n\nDibattiti, workshop e tavole rotonde ver
 teranno sulle tematiche del lavoro, della legalità, dell’ambiente, della
  cultura e della cittadinanza attiva.\n\n\nSi guarderà all’Italia in sin
 ergia, cercando di raccoglierne con coraggio le sfide: dalla ricostruzione 
 culturale e formativa a quella economica e materiale. Relazioni, lavoro e 
 cultura sono i tre nodi fondamentali che si andranno ad analizzare e speri
 mentare e, al contempo, i crocevia che, se ricomposti e posti in dialogo, 
 possono supportare il rinnovamento del tessuto nazionale, in vista di una 
 rinascita e culturale, sociale ed economica che include anche l’Europa e 
 i continenti.\n\n\n \n\n\nUfficio stampa LoppianoLab:\n\n\nElena Cardinali
  – mob: 347/4554043 – 
 
 
 
 
 Questo indirizzo e-mail è protetto da
 llo spam bot. Abilita Javascript per vederlo.
 
 
 \n\n\nStefania Tanesini-
  mob: 338/5658244 – 
 
 
 
 
 Questo indirizzo e-mail è protetto dallo 
 spam bot. Abilita Javascript per vederlo.
 
 
 \n\n\nBlog: http://www.loppi
 anolab.blogspot.it\n\n\nFacebook: www.facebook.com/loppianolab - Twitter:
  @LoppianoLab\n\n\n \n\n\nPromotori:\n\n\nPolo Lionello Bonfanti - www.p
 ololionellobonfanti.it - Gruppo Editoriale Città Nuova -www.cittanuova.i
 t\n\n\nIstituto Universitario Sophia - www.iu-sophia.org - Cittadella di
  Loppiano - www.loppiano.it\n\n\n \n\n\ndi Elena Cardinali\n fonte: Cit
 tà Nuova\n

DTSTAMP:20260424T210444
DTSTART:20141003T000000
DTEND:20141005T235959
SEQUENCE:0
TRANSP:OPAQUE
END:VEVENT
END:VCALENDAR