BEGIN:VCALENDAR
VERSION:2.0
PRODID:-//jEvents 1.5 for Joomla//EN
BEGIN:VEVENT
UID:47600e110726539b683ed8dfc141fad1
CATEGORIES:Condiviso
SUMMARY:Consiglio di Presidenza CIMP Cap
LOCATION:via Card. Guglielmo Massaia, 26 - 00044 Frascati
DESCRIPTION;ENCODING=QUOTED-PRINTABLE:\n\nore 09.30\n

DTSTAMP:20260422T080645
DTSTART:20140911T093000
DTEND:20140911T150000
SEQUENCE:0
TRANSP:OPAQUE
END:VEVENT
END:VCALENDAR