BEGIN:VCALENDAR
VERSION:2.0
PRODID:-//jEvents 1.5 for Joomla//EN
BEGIN:VEVENT
UID:5570be21fa964d56ba2df3dacac30b91
CATEGORIES:Condiviso
SUMMARY:Mostra d’arte sacra “Donne nello specchio dell'Altissimo”
LOCATION:
DESCRIPTION;ENCODING=QUOTED-PRINTABLE:\n\n\nInaugurazione della mostra d’arte sacra “Donne nello specchio del
 l'Altissimo” curata dall'associazione REBECCA (Rete Beni Culturali Cappuc
 cini Assisi) e dal MUMA (Museo Missionario Indios Frati Cappuccini dell'Umb
 ria in Amazzonia).\n\n\nLa mostra verrà inaugurata il 4 settembre alle ore
  16.00 presso la Sala Convegni del MUMA e sarà inserita tra gli eventi art
 istici e gli itinerari culturali relativi al progetto “MaDonna: il femmin
 ile nell'arte sacra in Umbria” promosso dalla MEU (Rete dei Musei Ecclesi
 astici dell'Umbria).\n\n\nL’inaugurazione prevede i saluti del Ministro P
 rovinciale dei Frati Minori Cappuccini dell’Umbria, P. Celestino Di Nardo
 , la presentazione dell’evento a cura della Dott.ssa Donatella Vaccari, c
 oordinatrice del Muma, e la relazione su “Il corpo dell'estasi. Un percor
 so nell'arte tra Medioevo ed Età barocca” della Prof.ssa Alessandra Bart
 olomei Romagnoli della Pontificia Università Gregoriana di Roma.\n

DTSTAMP:20260422T080647
DTSTART:20140904T000000
DTEND:20140904T235959
SEQUENCE:0
TRANSP:OPAQUE
END:VEVENT
END:VCALENDAR