BEGIN:VCALENDAR
VERSION:2.0
PRODID:-//jEvents 1.5 for Joomla//EN
BEGIN:VEVENT
UID:5aa81eb8082ea10760035a888d5764bc
CATEGORIES:Condiviso
SUMMARY:Festival Francescano 2014
LOCATION:Rimini, centro storico
DESCRIPTION;ENCODING=QUOTED-PRINTABLE:\nIn questa sesta edizione della manifestazione, organizzata dal Movimento 
  Francescano dell'Emilia-Romagna, in collaborazione con il Movimento  Franc
 escano italiano, si parlerà di vera e perfetta letizia, cercando di  porta
 re il messaggio di san Francesco nelle piazze, tra la gente,  attraverso co
 nferenze, spettacoli, attività didattiche, spiritualità,  workshop...\n

DTSTAMP:20260422T064415
DTSTART:20140926T000000
DTEND:20140928T235959
SEQUENCE:0
TRANSP:OPAQUE
END:VEVENT
END:VCALENDAR